BEGIN:VCALENDAR
VERSION:2.0
PRODID:-//Australian Property Panel - ECPv5.14.1//NONSGML v1.0//EN
CALSCALE:GREGORIAN
METHOD:PUBLISH
X-WR-CALNAME:Australian Property Panel
X-ORIGINAL-URL:https://auspropertypanel.com.au
X-WR-CALDESC:Events for Australian Property Panel
BEGIN:VTIMEZONE
TZID:Australia/Adelaide
BEGIN:STANDARD
TZOFFSETFROM:+1030
TZOFFSETTO:+0930
TZNAME:ACST
DTSTART:20190406T163000
END:STANDARD
BEGIN:DAYLIGHT
TZOFFSETFROM:+0930
TZOFFSETTO:+1030
TZNAME:ACDT
DTSTART:20191005T163000
END:DAYLIGHT
END:VTIMEZONE
BEGIN:VEVENT
DTSTART;TZID=Australia/Adelaide:20190123T080000
DTEND;TZID=Australia/Adelaide:20190124T220000
DTSTAMP:20260425T044329
CREATED:20181216T074336Z
LAST-MODIFIED:20181216T074924Z
UID:2747-1548230400-1548367200@auspropertypanel.com.au
SUMMARY:Adelaide | Find out how to invest in Property
DESCRIPTION:With limited spaces only\, you are invited to a one-on-one Discovery Session with property specialist Andrew Jackson from Australian Property Panel. There are limited appointments over 2 days on 23 and 24 January\, 2019. \nThe agenda is completely open for you to have all your questions answered about investing in Property\, but some of the topics you might like to discuss are: \nSuggested Topics:\n– The basics of property investing;\n– What makes a good real estate investment;\n– How to structure a multi-property portfolio;\n– How to finance & protect your investments;\n– Use all your tax to help pay for your property;\n– Purchase with no money down;\n– How to protect your principal home;\n– The successful property investing principal of using capital growth to purchase more properties in a limited time; \nWho are we?\nAustralian Property Panel is an independent investment property advisory company originally based here in Adelaide\, that has been successfully educating South Australians for over 15 years. \nWe partner you with a team of independent professionals\, experts\, builders and developers—your Property Panel—to help you invest wisely. Your Property Panel is there to help you along every stage of your property investment journey. \nBOOK YOUR ONE-ON-ONE TODAY \n[gravityform id=”16″ title=”false” description=”false”] \nDon’t just take our word for it…  \n\nHaving the right team to support you in your property journey is critical\, I can thoroughly recommend Australian Property Panel. We are extremely satisfied with the professionalism\, outstanding levels of service\, support & knowledge provided by AJ and the rest of the team. AJ’s guiding hand was there at every step of the journey\, ensuring the process of investing in a new property was a positive experience. He is a true professional and spent a tremendous amount of time working with us to find the right block in a on trend area that suited our budget\, partnering us with a great builder who delivered a quality build on time and on budget and importantly no surprises. Introducing us to other professionals that cover all the services required to let and maintain our properties. Our latest build was handed over\, property manager assigned\, one viewing\, applications vetted\, contract issued and tenants moving in – all within seven days! Ian and Julie\, Fulham Gardens \n\n\nThank you for all that you have done to make this happen for us.  From our point of view\, it has been a very good experience!!  The level of communication and guidance from you was exceptional and made everything so simple and easy.  We would love to build another property using Australian Property Panel. Chris and Melissa\, Pasadena \n\nThank you for everything in setting up and managing our first investment property. You certainly helped make the whole process far less daunting and stressful! Also your advice and explanations were extremely useful. Once again thank you and to the rest of your team for all your help. I won’t hesitate to tell people of Australian Property Panel and our experience. Paul and Clare\, Ridgehaven
URL:https://auspropertypanel.com.au/event/adelaide-invest-in-property/
LOCATION:Call Organiser for Details
CATEGORIES:APP,SA
ATTACH;FMTTYPE=image/jpeg:https://auspropertypanel.com.au/wp-content/uploads/2018/12/Flyer-for-One-on-One-Event-Adelaide-e1549176486851.jpg
ORGANIZER;CN="Andrew%20Jackson":MAILTO:andrew@sapropertypanel.com.au
END:VEVENT
END:VCALENDAR