BEGIN:VCALENDAR
VERSION:2.0
PRODID:-//Australian Property Panel - ECPv5.14.1//NONSGML v1.0//EN
CALSCALE:GREGORIAN
METHOD:PUBLISH
X-WR-CALNAME:Australian Property Panel
X-ORIGINAL-URL:https://auspropertypanel.com.au
X-WR-CALDESC:Events for Australian Property Panel
BEGIN:VTIMEZONE
TZID:Australia/Brisbane
BEGIN:STANDARD
TZOFFSETFROM:+1000
TZOFFSETTO:+1000
TZNAME:AEST
DTSTART:20200101T000000
END:STANDARD
END:VTIMEZONE
BEGIN:VEVENT
DTSTART;TZID=Australia/Brisbane:20200312T181500
DTEND;TZID=Australia/Brisbane:20200312T203000
DTSTAMP:20260425T091713
CREATED:20200212T115803Z
LAST-MODIFIED:20200212T115803Z
UID:3296-1584036900-1584045000@auspropertypanel.com.au
SUMMARY:Brisbane | Property Millionaire's Boardroom Brief
DESCRIPTION:Here’s an opportunity to sit at a boardroom table with property specialists and fast-track what you need to know about property investing. \nLearn the secrets from property millionaires on how to invest in property\, how to access opportunities and take advantage of Government tax incentives. \nOnly 7.9% of Australians own an investment property and less than 1.5% own two. \nIs this because A). over 90% of Australians don’t want to\, B). because they can’t\, or C). because they don’t know how? An educated guess would be because of either B or C. \nWould you be surprised to learn that for as little as $50 per week you can own your own investment property? No bull\, you can.* \nDo you want to know the secret how to create your own property investment portfolio?\nWell for starters… redirect your tax into your home loan to eliminate mortgage debt in under 10 years.. Imagine saving up to 50% of the tax you currently pay. Say\, what? \nIf you earn $100\,000 p.a then you will pay close to $25\,000 in tax – that’s 25% of your income. If you could only pay the taxman $12\,000 p.a\, would that be a game-changer for you? Yep\, I bet it would. \nThat’s what thousands of savvy homeowners are doing every year. Most of them are normal every-day people – just like you. \nEver wonder why the rich get richer? The rich don’t have a different system. They have access to the same opportunities and tax incentives that you do. There’s simply those that use them… and those that don’t. \nProperty specialists and company founders\, Peter Spencer and Brad Dolahenty\, have helped hundreds of families successfully invest in property over their 20+ years of investing. Featured in Mr Millionaire and Property Millionaire\, Peter and Brad will share with you their proven property strategies and give you some tips on how you can build a multi-property portfolio. Finance expert Bridget MacGregor will also be on hand to unravel the intricacies of effective borrowing. \nProperty investing isn’t for everyone. But is it for you? \nDo you want to create your own property investment portfolio\, save tax and implement an action plan to get started building wealth? \nDo you want to uncover the potential that lies in the equity you have in your existing home\, and your most valuable asset: your income? \nWould you like to find out what it might cost you to purchase and hold your own investment property? \nThen read on… \nThe good news is you can create your own property investment portfolio. Start by coming along to our property investing boardroom.\nWith strictly limited seats you can meet experienced\, knowledgeable professionals who have set themselves up for life. You’ve got questions? We’ve got answers. \nNo hooks\, no catches\, nothing to buy… \nWe make knowing the property market our business and use a tried and tested system for identifying ideal investment properties with a focus on capital growth. And you will never pay us a cent for sharing our knowledge. That’s a promise. \nNow it’s up to you. \n*You’re on track to be in the top 8% of all Australians as long as you have a combined household income of at least $120\,000 and you own a home with LVR (Loan-to-Value Ratio) of less than 70%. \nBut don’t just take our word for it… read what some of our clients have to say about us and how we have helped them realise their financial goals. \nReserve your seat at the boardroom NOW. Seats are strictly limited. \n\n\n\n\n* indicates required\n\n	First Name  *\n\n	\n\n\n	Last Name  *\n\n	\n\n\n	Email Address  *\n\n	\n\n\n	Mobile Phone  *
URL:https://auspropertypanel.com.au/event/brisbane-property-millionaires-boardroom-brief/
LOCATION:Vision Money Office\, 2/28 Carrara Street\, Mt Gravatt East\, QLD\, 4122\, Australia
CATEGORIES:APP,NSW,QLD,QPA,SA,WPP
ATTACH;FMTTYPE=image/jpeg:https://auspropertypanel.com.au/wp-content/uploads/2020/02/Brisbane-Property-Investing-Boardroom-Event-Pic.jpg
ORGANIZER;CN="Peter%20%28the%20Pom%29%20Spencer":MAILTO:app@auspropertypanel.com.au
END:VEVENT
END:VCALENDAR